BEGIN:VCALENDAR
VERSION:2.0
PRODID:-//ZContent.net//ZapCalLib 1.0//EN
CALSCALE:GREGORIAN
METHOD:PUBLISH
BEGIN:VEVENT
SUMMARY:CumEx-Skandal: Warum steht der Aufklärer vor Gericht?
DTSTART:20231115T190000
DTEND:20231115T203000
UID:2026-04-25-02-47-45-0-@calendar.boell.de
DTSTAMP:20260425T004745
DESCRIPTION:▶ Siehe Veranstaltungsbeschreibung – Stuttgart – Heinrich
  Böll Stiftung Baden-Württemberg
END:VEVENT
END:VCALENDAR
