BEGIN:VCALENDAR
VERSION:2.0
PRODID:-//ZContent.net//ZapCalLib 1.0//EN
CALSCALE:GREGORIAN
METHOD:PUBLISH
BEGIN:VEVENT
SUMMARY:Ausverkauft! Lesung & Gespräch „Elbe 511“ & „Gittersee“ | 
 mit Nicole Weis & Charlotte Gneuß
DTSTART:20231117T190000
DTEND:20231117T203000
UID:2026-04-22-03-01-58-0-@calendar.boell.de
DTSTAMP:20260422T010158
DESCRIPTION:▶ Siehe Veranstaltungsbeschreibung – Rostock – Landesstif
 tung Mecklenburg-Vorpommern
END:VEVENT
END:VCALENDAR
