BEGIN:VCALENDAR
VERSION:2.0
PRODID:-//ZContent.net//ZapCalLib 1.0//EN
CALSCALE:GREGORIAN
METHOD:PUBLISH
BEGIN:VEVENT
SUMMARY:Kampf um die Straße | Mobiliät im Bahnhofsviertel im Wandel
DTSTART:20230915T180000
DTEND:20230915T193000
UID:2026-04-21-23-40-47-0-@calendar.boell.de
DTSTAMP:20260421T214047
DESCRIPTION:▶ Siehe Veranstaltungsbeschreibung – Frankfurt (Main) – L
 andesstiftung Hessen
END:VEVENT
END:VCALENDAR
