BEGIN:VCALENDAR
VERSION:2.0
PRODID:-//ZContent.net//ZapCalLib 1.0//EN
CALSCALE:GREGORIAN
METHOD:PUBLISH
BEGIN:VEVENT
SUMMARY:„Wir sind doch alle längst gleichberechtigt! 25 Bullshitsätze u
 nd wie wir sie endlich zerlegen“ | Lesung & Gespräch mit Alexandra Zyku
 nov
DTSTART:20230909T200000
DTEND:20230909T213000
UID:2026-04-21-11-34-20-0-@calendar.boell.de
DTSTAMP:20260421T093420
DESCRIPTION:▶ Siehe Veranstaltungsbeschreibung – Stralsund – Landesst
 iftung Mecklenburg-Vorpommern
END:VEVENT
END:VCALENDAR
