BEGIN:VCALENDAR
VERSION:2.0
PRODID:-//ZContent.net//ZapCalLib 1.0//EN
CALSCALE:GREGORIAN
METHOD:PUBLISH
BEGIN:VEVENT
SUMMARY:Mi país imaginario – Das Land meiner Träume | Veranstaltungsrei
 he auf Spanisch mit Simultanübersetzung auf Deutsch
DTSTART:20230913T190000
DTEND:20230913T213000
UID:2026-04-21-11-34-33-0-@calendar.boell.de
DTSTAMP:20260421T093433
DESCRIPTION:▶ Siehe Veranstaltungsbeschreibung – Passau – Petra-Kelly
 -Stiftung
END:VEVENT
END:VCALENDAR
