BEGIN:VCALENDAR
VERSION:2.0
PRODID:-//ZContent.net//ZapCalLib 1.0//EN
CALSCALE:GREGORIAN
METHOD:PUBLISH
BEGIN:VEVENT
SUMMARY:Finanzierung von Familien neu denken: Kindergrundsicherung  | Veran
 staltungsreihe: Körper, Kinder, Kassensturz
DTSTART:20231207T190000
DTEND:20231207T210000
UID:2026-04-19-17-46-35-0-@calendar.boell.de
DTSTAMP:20260419T154635
DESCRIPTION:Berlin – 
END:VEVENT
END:VCALENDAR
