BEGIN:VCALENDAR
VERSION:2.0
PRODID:-//ZContent.net//ZapCalLib 1.0//EN
CALSCALE:GREGORIAN
METHOD:PUBLISH
BEGIN:VEVENT
SUMMARY:„Pack aus! Plastik, Müll & ich“ | Plakatausstellung in der Bü
 cherhalle Lokstedt
DTSTART:20230831T100000
DTEND:20230915T190000
UID:2026-04-21-11-34-59-0-@calendar.boell.de
DTSTAMP:20260421T093459
DESCRIPTION:▶ Siehe Veranstaltungsbeschreibung – Hamburg – 
END:VEVENT
END:VCALENDAR
