BEGIN:VCALENDAR
VERSION:2.0
PRODID:-//ZContent.net//ZapCalLib 1.0//EN
CALSCALE:GREGORIAN
METHOD:PUBLISH
BEGIN:VEVENT
SUMMARY:Wahlen und Demokratie in Südostasien  | Analyse und Policy-Optione
 n
DTSTART:20230929T093000
DTEND:20230929T104500
UID:2026-04-23-06-55-45-0-@calendar.boell.de
DTSTAMP:20260423T045545
DESCRIPTION:▶ Online-Veranstaltung – Heinrich-Böll-Stiftung - Bundesst
 iftung Berlin
END:VEVENT
END:VCALENDAR
