BEGIN:VCALENDAR
VERSION:2.0
PRODID:-//ZContent.net//ZapCalLib 1.0//EN
CALSCALE:GREGORIAN
METHOD:PUBLISH
BEGIN:VEVENT
SUMMARY:„Das wird man doch wohl noch sagen dürfen...“ | Diskriminierun
 g erkennen & Haltung zeigen
DTSTART:20231028T110000
DTEND:20231029T170000
UID:2026-04-21-23-53-48-0-@calendar.boell.de
DTSTAMP:20260421T215348
DESCRIPTION:▶ Siehe Veranstaltungsbeschreibung – Berlin – Landesstift
 ung Berlin (Bildungswerk)
END:VEVENT
END:VCALENDAR
