BEGIN:VCALENDAR
VERSION:2.0
PRODID:-//ZContent.net//ZapCalLib 1.0//EN
CALSCALE:GREGORIAN
METHOD:PUBLISH
BEGIN:VEVENT
SUMMARY:Zivilgesellschaft im Krieg und Wiederaufbau | 18. Jahreskonferenz d
 er Kyjiwer GesprÃ¤che
DTSTART:20230928T160000
DTEND:20230929T161500
UID:2026-04-20-03-21-31-0-@calendar.boell.de
DTSTAMP:20260420T012131
DESCRIPTION:â–¶ Siehe Veranstaltungsbeschreibung â€“ Berlin â€“ Heinrich-BÃ
 ¶ll-Stiftung - Bundesstiftung Berlin
END:VEVENT
BEGIN:VEVENT
SUMMARY:Zivilgesellschaft im Krieg und Wiederaufbau | 18. Jahreskonferenz d
 er Kyjiwer GesprÃ¤che
DTSTART:20230928T160000
DTEND:20230928T183000
UID:2026-04-20-01-21-31-1-@calendar.boell.de
DTSTAMP:20260420T012131
DESCRIPTION:â–¶ Siehe Veranstaltungsbeschreibung â€“ Berlin â€“ Heinrich-BÃ
 ¶ll-Stiftung - Bundesstiftung Berlin
END:VEVENT
BEGIN:VEVENT
SUMMARY:Zivilgesellschaft im Krieg und Wiederaufbau | 18. Jahreskonferenz d
 er Kyjiwer GesprÃ¤che
DTSTART:20230929T090000
DTEND:20230929T161500
UID:2026-04-20-01-21-31-2-@calendar.boell.de
DTSTAMP:20260420T012131
DESCRIPTION:â–¶ Siehe Veranstaltungsbeschreibung â€“ Berlin â€“ Heinrich-BÃ
 ¶ll-Stiftung - Bundesstiftung Berlin
END:VEVENT
END:VCALENDAR
