BEGIN:VCALENDAR
VERSION:2.0
PRODID:-//ZContent.net//ZapCalLib 1.0//EN
CALSCALE:GREGORIAN
METHOD:PUBLISH
BEGIN:VEVENT
SUMMARY:MÄNNERPHANTASIEN 7 | FEMINISTISCHES OPEN READING
DTSTART:20231124T193000
DTEND:20231124T220000
UID:2026-04-20-11-03-25-0-@calendar.boell.de
DTSTAMP:20260420T090325
DESCRIPTION:▶ Siehe Veranstaltungsbeschreibung – Mannheim – Heinrich 
 Böll Stiftung Baden-Württemberg
END:VEVENT
END:VCALENDAR
