BEGIN:VCALENDAR
VERSION:2.0
PRODID:-//ZContent.net//ZapCalLib 1.0//EN
CALSCALE:GREGORIAN
METHOD:PUBLISH
BEGIN:VEVENT
SUMMARY:„Ökonomien mit Zukunft“ | mit Reinhard Loske und Jens Eckhoff
DTSTART:20231011T190000
DTEND:20231011T210000
UID:2026-04-22-16-44-33-0-@calendar.boell.de
DTSTAMP:20260422T144433
DESCRIPTION:▶ Siehe Veranstaltungsbeschreibung – Bremen – 
END:VEVENT
END:VCALENDAR
