BEGIN:VCALENDAR
VERSION:2.0
PRODID:-//ZContent.net//ZapCalLib 1.0//EN
CALSCALE:GREGORIAN
METHOD:PUBLISH
BEGIN:VEVENT
SUMMARY:Grundkurs Digital in die Mobilitätswende #1 | Daten und Digitalisi
 erung für die Mobilitätswende nutzen - Grundlagen und Anwendungsbeispiel
 e
DTSTART:20231024T120000
DTEND:20231024T131500
UID:2026-04-21-19-14-37-0-@calendar.boell.de
DTSTAMP:20260421T171437
DESCRIPTION:▶ Online-Veranstaltung – Heinrich-Böll-Stiftung - Bundesst
 iftung Berlin
END:VEVENT
END:VCALENDAR
