BEGIN:VCALENDAR
VERSION:2.0
PRODID:-//ZContent.net//ZapCalLib 1.0//EN
CALSCALE:GREGORIAN
METHOD:PUBLISH
BEGIN:VEVENT
SUMMARY:Ocean Family Treffen: Munition und Schiffswracks | mit Ocean Summit
DTSTART:20231115T183000
DTEND:20231115T200000
UID:2026-04-22-01-38-41-0-@calendar.boell.de
DTSTAMP:20260421T233841
DESCRIPTION:▶ Online-Veranstaltung – Landesstiftung Schleswig-Holstein
END:VEVENT
END:VCALENDAR
