BEGIN:VCALENDAR
VERSION:2.0
PRODID:-//ZContent.net//ZapCalLib 1.0//EN
CALSCALE:GREGORIAN
METHOD:PUBLISH
BEGIN:VEVENT
SUMMARY:NSU-Aufarbeitung mit staatlicher Unterstützung? | Diskussion zu de
 n aktuellen Planungen für ein Dokumentationszentrum zum NSU-Komplex
DTSTART:20231026T180000
DTEND:20231026T193000
UID:2026-04-21-11-34-22-0-@calendar.boell.de
DTSTAMP:20260421T093422
DESCRIPTION:▶ Siehe Veranstaltungsbeschreibung – Chemnitz – Landessti
 ftung Sachsen (Weiterdenken)
END:VEVENT
END:VCALENDAR
