BEGIN:VCALENDAR
VERSION:2.0
PRODID:-//ZContent.net//ZapCalLib 1.0//EN
CALSCALE:GREGORIAN
METHOD:PUBLISH
BEGIN:VEVENT
SUMMARY:SCHLAFLOS | Ukrainische Illustrationen des Krieges
DTSTART:20231027T180000
DTEND:20231027T200000
UID:2026-04-22-22-55-24-0-@calendar.boell.de
DTSTAMP:20260422T205524
DESCRIPTION:▶ Siehe Veranstaltungsbeschreibung – Stendal – Landesstif
 tung Sachsen-Anhalt
END:VEVENT
END:VCALENDAR
