BEGIN:VCALENDAR
VERSION:2.0
PRODID:-//ZContent.net//ZapCalLib 1.0//EN
CALSCALE:GREGORIAN
METHOD:PUBLISH
BEGIN:VEVENT
SUMMARY:"Aufstehen gegen Hass" - 33 Jahre Widerstand gegen die extreme Rech
 te in Halle (Saale) | Videos und Gespräch | Teil der Veranstaltungsreihe 
 "Im Osten nichts Neues"
DTSTART:20231206T190000
DTEND:20231206T190000
UID:2026-04-26-05-22-06-0-@calendar.boell.de
DTSTAMP:20260426T032206
DESCRIPTION:▶ Siehe Veranstaltungsbeschreibung – Halle (Saale) – Land
 esstiftung Sachsen-Anhalt
END:VEVENT
END:VCALENDAR
