BEGIN:VCALENDAR
VERSION:2.0
PRODID:-//ZContent.net//ZapCalLib 1.0//EN
CALSCALE:GREGORIAN
METHOD:PUBLISH
BEGIN:VEVENT
SUMMARY:AUSGEBUCHT Yoga, Reggae und Banh Mi | Was kulturelle Aneignung mit 
 Machtverhältnissen zu tun hat
DTSTART:20231115T190000
DTEND:20231115T210000
UID:2026-04-22-22-53-41-0-@calendar.boell.de
DTSTAMP:20260422T205341
DESCRIPTION:▶ Siehe Veranstaltungsbeschreibung – Hamburg – Landesstif
 tung Hamburg
END:VEVENT
END:VCALENDAR
