BEGIN:VCALENDAR
VERSION:2.0
PRODID:-//ZContent.net//ZapCalLib 1.0//EN
CALSCALE:GREGORIAN
METHOD:PUBLISH
BEGIN:VEVENT
SUMMARY:Gemeinschaftsgetragen Wirtschaften! | Zukunftsdialog bei der GLS Ba
 nk
DTSTART:20231207T110000
DTEND:20231207T200000
UID:2026-04-21-13-57-00-0-@calendar.boell.de
DTSTAMP:20260421T115700
DESCRIPTION:▶ Siehe Veranstaltungsbeschreibung – Bochum – Landesstift
 ung Nordrhein-Westfalen
END:VEVENT
END:VCALENDAR
