BEGIN:VCALENDAR
VERSION:2.0
PRODID:-//ZContent.net//ZapCalLib 1.0//EN
CALSCALE:GREGORIAN
METHOD:PUBLISH
BEGIN:VEVENT
SUMMARY:Böll-Montagskino „Die Sonne ist überall gelb“ 
DTSTART:20231120T190000
DTEND:20231120T211500
UID:2026-04-21-23-40-34-0-@calendar.boell.de
DTSTAMP:20260421T214034
DESCRIPTION:▶ Siehe Veranstaltungsbeschreibung – Rostock – Landesstif
 tung Mecklenburg-Vorpommern
END:VEVENT
END:VCALENDAR
