BEGIN:VCALENDAR
VERSION:2.0
PRODID:-//ZContent.net//ZapCalLib 1.0//EN
CALSCALE:GREGORIAN
METHOD:PUBLISH
BEGIN:VEVENT
SUMMARY:Tape-Underground DDR 1980 - 1990 | Alexander Pehlemann über den Ma
 gnetbanduntergund der DDR & Konzert mit Rosa Beton
DTSTART:20231122T200000
DTEND:20231122T220000
UID:2026-04-22-12-22-32-0-@calendar.boell.de
DTSTAMP:20260422T102232
DESCRIPTION:▶ Siehe Veranstaltungsbeschreibung – Rostock – Landesstif
 tung Mecklenburg-Vorpommern
END:VEVENT
END:VCALENDAR
