BEGIN:VCALENDAR
VERSION:2.0
PRODID:-//ZContent.net//ZapCalLib 1.0//EN
CALSCALE:GREGORIAN
METHOD:PUBLISH
BEGIN:VEVENT
SUMMARY:Alles im Fluss?! Wasser in der Krise  | Ausstellung mit Begleitprog
 ramm in Magdeburg
DTSTART:20231113T180000
DTEND:20231130T150000
UID:2026-04-21-11-34-40-0-@calendar.boell.de
DTSTAMP:20260421T093440
DESCRIPTION:▶ Siehe Veranstaltungsbeschreibung – Magdeburg – Landesst
 iftung Sachsen-Anhalt
END:VEVENT
END:VCALENDAR
