BEGIN:VCALENDAR
VERSION:2.0
PRODID:-//ZContent.net//ZapCalLib 1.0//EN
CALSCALE:GREGORIAN
METHOD:PUBLISH
BEGIN:VEVENT
SUMMARY:Rennsteig Flimmern | Performative Lecture von Christoph Blankenburg
DTSTART:20231116T193000
DTEND:20231116T220000
UID:2026-04-21-19-52-05-0-@calendar.boell.de
DTSTAMP:20260421T175205
DESCRIPTION:▶ Siehe Veranstaltungsbeschreibung – Erfurt – Landesstift
 ung Thüringen
END:VEVENT
END:VCALENDAR
