BEGIN:VCALENDAR
VERSION:2.0
PRODID:-//ZContent.net//ZapCalLib 1.0//EN
CALSCALE:GREGORIAN
METHOD:PUBLISH
BEGIN:VEVENT
SUMMARY:Klimaschutz selber machen: Auf dem Weg zur eigenen Solaranlage
DTSTART:20231124T160000
DTEND:20231124T180000
UID:2026-04-22-22-11-56-0-@calendar.boell.de
DTSTAMP:20260422T201156
DESCRIPTION:▶ Siehe Veranstaltungsbeschreibung – Rostock – Landesstif
 tung Mecklenburg-Vorpommern
END:VEVENT
END:VCALENDAR
