BEGIN:VCALENDAR
VERSION:2.0
PRODID:-//ZContent.net//ZapCalLib 1.0//EN
CALSCALE:GREGORIAN
METHOD:PUBLISH
BEGIN:VEVENT
SUMMARY:Drei Länder, Zwei Räder, Ein Fluss (ausgebucht) | Regionalentwick
 lung, Natur- und Umweltschutz am Beispiel des Flusses Rur
DTSTART:20240902T101500
DTEND:20240906T190000
UID:2026-04-21-23-40-50-0-@calendar.boell.de
DTSTAMP:20260421T214050
DESCRIPTION:▶ Siehe Veranstaltungsbeschreibung – Landesstiftung Nordrhe
 in-Westfalen
END:VEVENT
END:VCALENDAR
