BEGIN:VCALENDAR
VERSION:2.0
PRODID:-//ZContent.net//ZapCalLib 1.0//EN
CALSCALE:GREGORIAN
METHOD:PUBLISH
BEGIN:VEVENT
SUMMARY:Premiere: Die Liebe zum Leben | -  Dokumentarfilm von Annette Ortli
 eb. Heimspiel 171
DTSTART:20231119T120000
DTEND:20231119T143000
UID:2026-04-22-03-01-47-0-@calendar.boell.de
DTSTAMP:20260422T010147
DESCRIPTION:▶ Siehe Veranstaltungsbeschreibung – Bremen – Landesstift
 ung Bremen
END:VEVENT
END:VCALENDAR
