BEGIN:VCALENDAR
VERSION:2.0
PRODID:-//ZContent.net//ZapCalLib 1.0//EN
CALSCALE:GREGORIAN
METHOD:PUBLISH
BEGIN:VEVENT
SUMMARY:AUSGEBUCHT St. Pauli unter Palmen!? | Hamburg in der Klimakrise - A
 uswirkungen und Anpassungen
DTSTART:20250616T090000
DTEND:20250620T170000
UID:2026-04-21-11-34-25-0-@calendar.boell.de
DTSTAMP:20260421T093425
DESCRIPTION:▶ Siehe Veranstaltungsbeschreibung – Hamburg – Landesstif
 tung Hamburg
END:VEVENT
END:VCALENDAR
