BEGIN:VCALENDAR
VERSION:2.0
PRODID:-//ZContent.net//ZapCalLib 1.0//EN
CALSCALE:GREGORIAN
METHOD:PUBLISH
BEGIN:VEVENT
SUMMARY:Ірена Карпа. Літературний стендап «Д
 е брати сили в час війни» | Literarischer Stand-Up mit
  Irena Karpa „Wo in Kriegszeiten Kraft finden?“ 
DTSTART:20231215T180000
DTEND:20231215T200000
UID:2026-04-21-12-46-00-0-@calendar.boell.de
DTSTAMP:20260421T104600
DESCRIPTION:▶ Siehe Veranstaltungsbeschreibung – Hannover – Stiftung 
 Leben & Umwelt / Heinrich-Böll-Stiftung Niedersachsen
END:VEVENT
END:VCALENDAR
