BEGIN:VCALENDAR
VERSION:2.0
PRODID:-//ZContent.net//ZapCalLib 1.0//EN
CALSCALE:GREGORIAN
METHOD:PUBLISH
BEGIN:VEVENT
SUMMARY: AUSGEBUCHT: KLASSISMUS: Ein Workshop über klassistische Unterdrü
 ckung und ökonomische Ungerechtigkeiten
DTSTART:20240216T090000
DTEND:20240216T130000
UID:2026-04-22-04-46-10-0-@calendar.boell.de
DTSTAMP:20260422T024610
DESCRIPTION:▶ Online-Veranstaltung – Landesstiftung Sachsen-Anhalt
END:VEVENT
END:VCALENDAR
