BEGIN:VCALENDAR
VERSION:2.0
PRODID:-//ZContent.net//ZapCalLib 1.0//EN
CALSCALE:GREGORIAN
METHOD:PUBLISH
BEGIN:VEVENT
SUMMARY:Grüner Salon: Zeit, Arbeit, Gerechtigkeit – Warum wir die Uhren 
 anders stellen müssen! | Grüner Salon mit Teresa Bücker
DTSTART:20240123T193000
DTEND:20240123T210000
UID:2026-04-19-18-43-36-0-@calendar.boell.de
DTSTAMP:20260419T164336
DESCRIPTION:▶ Siehe Veranstaltungsbeschreibung – Hannover – Stiftung 
 Leben & Umwelt / Heinrich-Böll-Stiftung Niedersachsen
END:VEVENT
END:VCALENDAR
