BEGIN:VCALENDAR
VERSION:2.0
PRODID:-//ZContent.net//ZapCalLib 1.0//EN
CALSCALE:GREGORIAN
METHOD:PUBLISH
BEGIN:VEVENT
SUMMARY:Lesung & Gespräch „Die letzten Männer des Westens“ | mit Tobi
 as Ginsburg
DTSTART:20240229T193000
DTEND:20240229T210000
UID:2026-04-21-19-14-22-0-@calendar.boell.de
DTSTAMP:20260421T171422
DESCRIPTION:▶ Siehe Veranstaltungsbeschreibung – Stralsund – Landesst
 iftung Mecklenburg-Vorpommern
END:VEVENT
END:VCALENDAR
