BEGIN:VCALENDAR
VERSION:2.0
PRODID:-//ZContent.net//ZapCalLib 1.0//EN
CALSCALE:GREGORIAN
METHOD:PUBLISH
BEGIN:VEVENT
SUMMARY:UND ALLE TIERE RUFEN: DIESER TITEL RETTET DIE WELT AUCH NICHT MEHR 
 (MONKEY GONE TO HEAVEN)  | EIN REQUIEMMANIFESTO OF EXTINCTION
DTSTART:20231215T193000
DTEND:20231215T210000
UID:2026-04-26-05-29-39-0-@calendar.boell.de
DTSTAMP:20260426T032939
DESCRIPTION:▶ Siehe Veranstaltungsbeschreibung – Dresden – Externe Ve
 ranstaltung
END:VEVENT
END:VCALENDAR
