BEGIN:VCALENDAR
VERSION:2.0
PRODID:-//ZContent.net//ZapCalLib 1.0//EN
CALSCALE:GREGORIAN
METHOD:PUBLISH
BEGIN:VEVENT
SUMMARY:Klimarelevanz des Teufelsmoors (Warteliste) | Bildungsreise per Fah
 rrad: Biodiversitäts-Hotspot und Kohlenstoffspeicher
DTSTART:20240617T080000
DTEND:20240621T180000
UID:2026-04-21-19-52-04-0-@calendar.boell.de
DTSTAMP:20260421T175204
DESCRIPTION:▶ Siehe Veranstaltungsbeschreibung – Bremen – Landesstift
 ung Bremen
END:VEVENT
END:VCALENDAR
