BEGIN:VCALENDAR
VERSION:2.0
PRODID:-//ZContent.net//ZapCalLib 1.0//EN
CALSCALE:GREGORIAN
METHOD:PUBLISH
BEGIN:VEVENT
SUMMARY:Wie ich mich in polarisierten Diskussionen behaupten kann | Überze
 ugend argumentieren
DTSTART:20240221T143000
DTEND:20240221T183000
UID:2026-04-21-22-14-13-0-@calendar.boell.de
DTSTAMP:20260421T201413
DESCRIPTION:▶ Online-Veranstaltung – Heinrich Böll Stiftung Baden-Wür
 ttemberg
END:VEVENT
END:VCALENDAR
