BEGIN:VCALENDAR
VERSION:2.0
PRODID:-//ZContent.net//ZapCalLib 1.0//EN
CALSCALE:GREGORIAN
METHOD:PUBLISH
BEGIN:VEVENT
SUMMARY:AUSVERKAUFT! Zeit der Zäune. Orte der Flucht | Lesung und Gespräc
 h mit der Autorin Katja Riemann
DTSTART:20240304T193000
DTEND:20240304T210000
UID:2026-04-22-06-26-13-0-@calendar.boell.de
DTSTAMP:20260422T042613
DESCRIPTION:▶ Siehe Veranstaltungsbeschreibung – Landesstiftung Thürin
 gen
END:VEVENT
END:VCALENDAR
