BEGIN:VCALENDAR
VERSION:2.0
PRODID:-//ZContent.net//ZapCalLib 1.0//EN
CALSCALE:GREGORIAN
METHOD:PUBLISH
BEGIN:VEVENT
SUMMARY:24. Außenpolitische Jahrestagung | Europa verteidigen in ungewisse
 n Zeiten
DTSTART:20240201T110000
DTEND:20240201T173000
UID:2026-04-22-03-01-33-0-@calendar.boell.de
DTSTAMP:20260422T010133
DESCRIPTION:Heinrich-Böll-Stiftung - Bundesstiftung Berlin – Berlin – 
 Heinrich-Böll-Stiftung - Bundesstiftung Berlin
END:VEVENT
END:VCALENDAR
