BEGIN:VCALENDAR
VERSION:2.0
PRODID:-//ZContent.net//ZapCalLib 1.0//EN
CALSCALE:GREGORIAN
METHOD:PUBLISH
BEGIN:VEVENT
SUMMARY:Exit Plastik | Öffentliche Konferenz und NGO Runder Tisch zu Wegen
  aus der Plastikkrise
DTSTART:20240206T100000
DTEND:20240206T180000
UID:2026-04-21-15-49-43-0-@calendar.boell.de
DTSTAMP:20260421T134943
DESCRIPTION:Heinrich-Böll-Stiftung - Bundesstiftung Berlin – Berlin – 
 Heinrich-Böll-Stiftung - Bundesstiftung Berlin
END:VEVENT
END:VCALENDAR
