BEGIN:VCALENDAR
VERSION:2.0
PRODID:-//ZContent.net//ZapCalLib 1.0//EN
CALSCALE:GREGORIAN
METHOD:PUBLISH
BEGIN:VEVENT
SUMMARY:Queer Feminist Lit Space (ausgebucht) | Lesekreis: Queer_Feminismus
  für absolute Newbies! 
DTSTART:20240216T183000
DTEND:20240216T203000
UID:2026-04-22-03-01-35-0-@calendar.boell.de
DTSTAMP:20260422T010135
DESCRIPTION:▶ Siehe Veranstaltungsbeschreibung – Landesstiftung Bremen
END:VEVENT
END:VCALENDAR
