BEGIN:VCALENDAR
VERSION:2.0
PRODID:-//ZContent.net//ZapCalLib 1.0//EN
CALSCALE:GREGORIAN
METHOD:PUBLISH
BEGIN:VEVENT
SUMMARY:Allyship! Solidarisch gegen Rassismus!
DTSTART:20240304T170000
DTEND:20240304T200000
UID:2026-04-21-15-22-51-0-@calendar.boell.de
DTSTAMP:20260421T132251
DESCRIPTION:▶ Online-Veranstaltung – Heinrich Böll Stiftung Baden-Wür
 ttemberg
END:VEVENT
END:VCALENDAR
