BEGIN:VCALENDAR
VERSION:2.0
PRODID:-//ZContent.net//ZapCalLib 1.0//EN
CALSCALE:GREGORIAN
METHOD:PUBLISH
BEGIN:VEVENT
SUMMARY:Diskriminierungssensible Sprache | Fragen, verstehen, anwenden!
DTSTART:20240527T170000
DTEND:20240527T200000
UID:2026-04-21-18-28-41-0-@calendar.boell.de
DTSTAMP:20260421T162841
DESCRIPTION:▶ Online-Veranstaltung – Heinrich Böll Stiftung Baden-Wür
 ttemberg
END:VEVENT
END:VCALENDAR
