BEGIN:VCALENDAR
VERSION:2.0
PRODID:-//ZContent.net//ZapCalLib 1.0//EN
CALSCALE:GREGORIAN
METHOD:PUBLISH
BEGIN:VEVENT
SUMMARY:Das Recht auf Wohnen ist ein Menschenrecht! 
DTSTART:20240318T180000
DTEND:20240318T200000
UID:2026-04-21-22-26-57-0-@calendar.boell.de
DTSTAMP:20260421T202657
DESCRIPTION:▶ Siehe Veranstaltungsbeschreibung – München – Petra-Kel
 ly-Stiftung
END:VEVENT
END:VCALENDAR
