BEGIN:VCALENDAR
VERSION:2.0
PRODID:-//ZContent.net//ZapCalLib 1.0//EN
CALSCALE:GREGORIAN
METHOD:PUBLISH
BEGIN:VEVENT
SUMMARY:Reichsträume | Reichsbürger*innen in Baden-Württemberg zwischen 
 „Tag X“ und „Corona-Protest“
DTSTART:20240516T190000
DTEND:20240516T203000
UID:2026-04-21-22-27-20-0-@calendar.boell.de
DTSTAMP:20260421T202720
DESCRIPTION:▶ Siehe Veranstaltungsbeschreibung – Ulm – Heinrich Böll
  Stiftung Baden-Württemberg
END:VEVENT
END:VCALENDAR
