BEGIN:VCALENDAR
VERSION:2.0
PRODID:-//ZContent.net//ZapCalLib 1.0//EN
CALSCALE:GREGORIAN
METHOD:PUBLISH
BEGIN:VEVENT
SUMMARY:Hedonistische Askese | Neuverhandlungen von Sinn und Konsum im 21. 
 Jahrhundert
DTSTART:20240306T190000
DTEND:20240306T210000
UID:2026-04-24-02-47-57-0-@calendar.boell.de
DTSTAMP:20260424T004757
DESCRIPTION:▶ Heinrich-Böll-Stiftung\, Bundesstiftung Berlin sowie Onlin
 e – Berlin – Heinrich-Böll-Stiftung - Bundesstiftung Berlin
END:VEVENT
END:VCALENDAR
