BEGIN:VCALENDAR
VERSION:2.0
PRODID:-//ZContent.net//ZapCalLib 1.0//EN
CALSCALE:GREGORIAN
METHOD:PUBLISH
BEGIN:VEVENT
SUMMARY:Wirtschaft anders denken: Wachstumskritik (ausgebucht/Warteliste) |
  Einführung in die plurale Ökonomik
DTSTART:20240222T190000
DTEND:20240222T210000
UID:2026-04-21-15-22-47-0-@calendar.boell.de
DTSTAMP:20260421T132247
DESCRIPTION:▶ Siehe Veranstaltungsbeschreibung – Landesstiftung Nordrhe
 in-Westfalen
END:VEVENT
END:VCALENDAR
