BEGIN:VCALENDAR
VERSION:2.0
PRODID:-//ZContent.net//ZapCalLib 1.0//EN
CALSCALE:GREGORIAN
METHOD:PUBLISH
BEGIN:VEVENT
SUMMARY:Buchvorstellung: Tigermilch | Diverse Kinder- und Jugendliteratur i
 n Forschung, Lehre und Gesellschaft
DTSTART:20240429T170000
DTEND:20240429T170000
UID:2026-04-21-15-22-56-0-@calendar.boell.de
DTSTAMP:20260421T132256
DESCRIPTION:▶ Siehe Veranstaltungsbeschreibung – Magdeburg – Landesst
 iftung Sachsen-Anhalt
END:VEVENT
END:VCALENDAR
