BEGIN:VCALENDAR
VERSION:2.0
PRODID:-//ZContent.net//ZapCalLib 1.0//EN
CALSCALE:GREGORIAN
METHOD:PUBLISH
BEGIN:VEVENT
SUMMARY:Buchvorstellung: Dilip und der Urknall | Diverse Kinder- und Jugend
 literatur in Forschung, Lehre und Gesellschaft
DTSTART:20240527T170000
DTEND:20240527T190000
UID:2026-04-21-19-59-47-0-@calendar.boell.de
DTSTAMP:20260421T175947
DESCRIPTION:▶ Siehe Veranstaltungsbeschreibung – Magdeburg – Landesst
 iftung Sachsen-Anhalt
END:VEVENT
END:VCALENDAR
