BEGIN:VCALENDAR
VERSION:2.0
PRODID:-//ZContent.net//ZapCalLib 1.0//EN
CALSCALE:GREGORIAN
METHOD:PUBLISH
BEGIN:VEVENT
SUMMARY:Buchvorstellung: Mädchenmeute | Diverse Kinder- und Jugendliteratu
 r in Forschung, Lehre und Gesellschaft
DTSTART:20240624T170000
DTEND:20240624T190000
UID:2026-04-19-18-43-48-0-@calendar.boell.de
DTSTAMP:20260419T164348
DESCRIPTION:▶ Siehe Veranstaltungsbeschreibung – Magdeburg – Landesst
 iftung Sachsen-Anhalt
END:VEVENT
END:VCALENDAR
