BEGIN:VCALENDAR
VERSION:2.0
PRODID:-//ZContent.net//ZapCalLib 1.0//EN
CALSCALE:GREGORIAN
METHOD:PUBLISH
BEGIN:VEVENT
SUMMARY:Rundgang: Frauen in Wohnungs- und Obdachlosigkeit | mit LieLa e.V. 
 und dem Aktivisten Markus Urban
DTSTART:20240310T110000
DTEND:20240310T140000
UID:2026-04-21-12-12-35-0-@calendar.boell.de
DTSTAMP:20260421T101235
DESCRIPTION:▶ Siehe Veranstaltungsbeschreibung – Bremen – Landesstift
 ung Bremen
END:VEVENT
END:VCALENDAR
