BEGIN:VCALENDAR
VERSION:2.0
PRODID:-//ZContent.net//ZapCalLib 1.0//EN
CALSCALE:GREGORIAN
METHOD:PUBLISH
BEGIN:VEVENT
SUMMARY:Der Nahostkonflikt nach dem 7. Oktober und dem Krieg im Gazastreife
 n
DTSTART:20241010T190000
DTEND:20241010T210000
UID:2026-04-20-20-50-30-0-@calendar.boell.de
DTSTAMP:20260420T185030
DESCRIPTION:▶ Siehe Veranstaltungsbeschreibung – Lindau – Petra-Kelly
 -Stiftung
END:VEVENT
END:VCALENDAR
