BEGIN:VCALENDAR
VERSION:2.0
PRODID:-//ZContent.net//ZapCalLib 1.0//EN
CALSCALE:GREGORIAN
METHOD:PUBLISH
BEGIN:VEVENT
SUMMARY:Recht auf gerecht! Der Talk über Gerechtigkeit 2.0.  | Gehört die
  Ehe abgeschafft?
DTSTART:20240326T183000
DTEND:20240326T200000
UID:2026-04-21-12-12-34-0-@calendar.boell.de
DTSTAMP:20260421T101234
DESCRIPTION:▶ Siehe Veranstaltungsbeschreibung – München – Petra-Kel
 ly-Stiftung
END:VEVENT
END:VCALENDAR
